Workbook
Name _DAT1: #REF!
Name _DAT10: #REF!
Name _DAT11: #REF!
Name _DAT12: #REF!
Name _DAT13: #REF!
Name _DAT14: #REF!
Name _DAT15: #REF!
Name _DAT16: #REF!
Name _DAT17: #REF!
Name _DAT18: #REF!
Name _DAT19: #REF!
Name _DAT2: #REF!
Name _DAT20: #REF!
Name _DAT21: #REF!
Name _DAT22: #REF!
Name _DAT23: #REF!
Name _DAT24: #REF!
Name _DAT25: #REF!
Name _DAT26: #REF!
Name _DAT27: #REF!
Name _DAT28: #REF!
Name _DAT29: #REF!
Name _DAT3: #REF!
Name _DAT30: #REF!
Name _DAT31: #REF!
Name _DAT32: #REF!
Name _DAT33: #REF!
Name _DAT34: #REF!
Name _DAT35: #REF!
Name _DAT36: #REF!
Name _DAT37: #REF!
Name _DAT38: #REF!
Name _DAT39: #REF!
Name _DAT4: #REF!
Name _DAT40: #REF!
Name _DAT41: #REF!
Name _DAT42: #REF!
Name _DAT43: #REF!
Name _DAT44: #REF!
Name _DAT45: #REF!
Name _DAT5: #REF!
Name _DAT6: #REF!
Name _DAT7: #REF!
Name _DAT8: #REF!
Name _DAT9: #REF!
Name _FC: #REF!
Name _TP08: #REF!
Name a: #REF!
Name A___APO: "APO"
Name AA: #REF!
Name ACCIÓN: #REF!
Name ACT.PAS.: #REF!
Name ADAPR: #REF!
Name ADAUG: #REF!
Name ADDEC: #REF!
Name ADDITIONAL_ITALIAN_STOCKSHIFTS: #REF!
Name ADFEB: #REF!
Name ADJAN: #REF!
Name ADJUL: #REF!
Name ADJUN: #REF!

Sheet Tarifa compacta
A2: Lista de precios 2026
A4: País | B4: España
A5: Divisa | B5: EUR
A6: Validez | B6: 46296
A8: * PVPR significa Precio de Venta al Público Recomendado. Los precios no incluyen IVA. Todos los precios están sujetos a cambios o retirada sin previo aviso. | F8: Datos pendientes de actualización
N9: Tasa reciclaje | P9: Datos logísticos | U9: F-Gas
A10: Material | B10: Código EAN | C10: Categoría | D10: Tipo | E10: Gama | F10: Serie | G10: Descripción | H10: Descripción corta | I10: Modelo reemplazado por | J10: Modelo que sustituye | K10: Novedad | L10: Disponibilidad | M10: PVPR | N10: REEE | O10: Cantidad REEE | P10: Volumen (cm3) | Q10: Peso bruto (kg) | R10: Altura (cm) | S10: Longitud (cm) | T10: Anchura (cm) | U10: Gas refrigerante | V10: Carga refrigerante (kg) | W10: PCA (GWP) | X10: CO2 Eq. (T)
A11: WH-WDG05LE5 | B11: 5025232945603 | C11: A2W | D11: EXTERIOR | E11: a) Bi | F11: LT 1ph | G11: Aquarea High Performance L serie R290 unidad exterior de 5 kW 1ph | H11: Unidad exterior Aquarea L serie 5 kW 1ph | M11: 3734 | P11: 765180 | Q11: 107 | R11: 117 | S11: 109 | T11: 60 | U11: R290 | V11: 0.96 | W11: 0.02 | X11: 1.92e-05
A12: WH-WDG07LE5 | B12: 5025232945610 | C12: A2W | D12: EXTERIOR | E12: a) Bi | F12: LT 1ph | G12: Aquarea High Performance L serie R290 unidad exterior 7 kW 1ph | H12: Unidad exterior Aquarea L series 7 kW 1ph | M12: 4496 | P12: 758640 | Q12: 107 | R12: 116 | S12: 109 | T12: 60 | U12: R290 | V12: 0.96 | W12: 0.02 | X12: 1.92e-05
A13: WH-WDG09LE5 | B13: 5025232945627 | C13: A2W | D13: EXTERIOR | E13: a) Bi | F13: LT 1ph | G13: Aquarea High Performance L serie R290 unidad exterior de 9 kW 1ph | H13: Unidad exterior Aquarea L serie 9 kW 1ph | M13: 4846 | P13: 758640 | Q13: 106 | R13: 116 | S13: 109 | T13: 60 | U13: R290 | V13: 1 | W13: 0.02 | X13: 2e-05
A14: WH-ADC0509L3E51 | B14: 4010869633796 | C14: A2W | D14: INTERIOR | E14: d) All in one | F14: 1ph (COMPACT) | G14: Aquarea all in one hidrosplit serie L 5-9 kW con resistencia de 3 kW 1ph 120 L | H14: Aquarea serie L todo-en-uno 120 L 1ph | M14: 4456 | P14: 895068 | Q14: 85 | R14: 188 | S14: 69 | T14: 69 | U14: - | V14: - | W14: - | X14: -
A15: WH-ADC0509L3E5 | B15: 5025232946617 | C15: A2W | D15: INTERIOR | E15: d) All in one | F15: 1ph (COMPACT) | G15: Aquarea all in one hidrosplit serie L 5-9 kW con resistencia de 3 kW de 1 ph | H15: Aquarea serie L todo-en-uno 1ph | M15: 4594 | P15: 885546 | Q15: 102 | R15: 186 | S15: 69 | T15: 69 | U15: - | V15: - | W15: - | X15: -
A16: WH-ADC0509L3E5AN | B16: 5025232946624 | C16: A2W | D16: INTERIOR | E16: d) All in one | F16: 1ph (DK) | G16: Aquarea all in one hidrosplit serie L 5-9 kW con resistencia de 3 kW de 1ph con ánodo electrónico | H16: Aquarea serie L todo-en-uno 1ph AN | M16: 5065 | P16: 1039554 | Q16: 102 | R16: 186 | S16: 81 | T16: 69 | U16: - | V16: - | W16: - | X16: -
A17: WH-ADC0509L3E5B | B17: 5025232946631 | C17: A2W | D17: INTERIOR | E17: d) All in one | F17: 1ph (2 ZONE) | G17: Aquarea all in one hidrosplit serie L 5-9 kW con resistencia de 3 kW de 1ph con kit 2 zonas | H17: Aquarea serie L All-in-one 1ph 2zone | M17: 5972 | P17: 890307 | Q17: 110 | R17: 187 | S17: 69 | T17: 69 | U17: - | V17: - | W17: - | X17: -
A18: WH-ADC0509L6E5 | B18: 5025232946655 | C18: A2W | D18: INTERIOR | E18: d) All in one | F18: 1ph (COMPACT) | G18: Aquarea all-in-one hydrosplit serie L 5-9 kW con resistencia de 6 kW de 1 ph | H18: Aquarea serie L todo-en-uno 1ph | M18: 4640 | P18: 1073088 | Q18: 135 | R18: 192 | S18: 81 | T18: 69 | U18: - | V18: - | W18: - | X18: -
A19: WH-ADC0509L6E5AN | B19: 5025232946662 | C19: A2W | D19: INTERIOR | E19: d) All in one | F19: 1ph (DK) | G19: Aquarea all in one hidrosplit serie L 5-9 kW con resistencia de 6 kW de 1ph con ánodo electrónico | H19: Aquarea serie L todo-en-uno 1ph AN | M19: 5112 | P19: 1073088 | Q19: 135 | R19: 192 | S19: 81 | T19: 69 | U19: - | V19: - | W19: - | X19: -
A20: WH-SDC0509L3E5 | B20: 5025232951338 | C20: A2W | D20: INTERIOR | E20: a) Bi | F20: LT 1ph | G20: Aquarea High Performance Hydrobox serie L 5-9 kW con resistencia de 3 kW de 1 ph | H20: Aquarea serie L Bibloc 1ph | M20: 2588 | P20: 307188 | Q20: 40 | R20: 106 | S20: 63 | T20: 46 | U20: - | V20: - | W20: - | X20: -
A21: WH-SDC0509L6E5 | B21: 5025232951345 | C21: A2W | D21: INTERIOR | E21: a) Bi | F21: LT 1ph | G21: Aquarea High Performance Hydrobox serie L 5-9 kW con resistencia de 6 kW de 1ph | H21: Aquarea serie L Bibloc 1ph | M21: 2615 | P21: 307188 | Q21: 50 | R21: 106 | S21: 63 | T21: 46 | U21: - | V21: - | W21: - | X21: -
A22: WH-WDG12ME5 | B22: 5025232984817 | C22: A2W | D22: EXTERIOR | E22: a) Bi | F22: LT 1ph | G22: Aquarea High Performance M serie R290 unidad exterior de 12 kW 1ph | H22: Unidad exterior Aquarea M serie 12 kW 1ph | M22: 7179 | P22: 1336200 | Q22: 160 | R22: 170 | S22: 131 | T22: 60 | U22: R290 | V22: 1.58 | W22: 0.02 | X22: 3.16e-05
A23: WH-WDG16ME5 | B23: 5025232984831 | C23: A2W | D23: EXTERIOR | E23: a) Bi | F23: LT 1ph | G23: Aquarea High Performance M serie R290 unidad exterior de 16 kW 1ph | H23: Unidad exterior Aquarea M serie 16 kW 1ph | M23: 8106 | P23: 1336200 | Q23: 160 | R23: 170 | S23: 131 | T23: 60 | U23: R290 | V23: 1.58 | W23: 0.02 | X23: 3.16e-05
A24: WH-WDG09ME8 | B24: 5025232984800 | C24: A2W | D24: EXTERIOR | E24: a) Bi | F24: LT 1ph | G24: Aquarea High Performance M serie R290 unidad exterior de 9 kW 3ph | H24: Unidad exterior Aquarea M series de 9 kW 3ph | M24: 6347 | P24: 758640 | Q24: 106 | R24: 116 | S24: 109 | T24: 60 | U24: R290 | V24: 1.6 | W24: 0.02 | X24: 3.2e-05
A25: WH-WDG12ME8 | B25: 5025232984824 | C25: A2W | D25: EXTERIOR | E25: a) Bi | F25: LT 1ph | G25: Aquarea High Performance M serie R290 unidad exterior de 12 kW 3ph | H25: Unidad exterior Aquarea M serie 12 kW 3ph | M25: 8175 | P25: 758640 | Q25: 106 | R25: 116 | S25: 109 | T25: 60 | U25: R290 | V25: 1.6 | W25: 0.02 | X25: 3.2e-05
A26: WH-WDG16ME8 | B26: 5025232984848 | C26: A2W | D26: EXTERIOR | E26: a) Bi | F26: LT 1ph | G26: Aquarea High Performance M serie R290 unidad exterior de 16 kW 3ph | H26: Unidad exterior Aquarea M series de 16 kW 3ph | M26: 9231 | P26: 758640 | Q26: 106 | R26: 116 | S26: 109 | T26: 60 | U26: R290 | V26: 1.6 | W26: 0.02 | X26: 3.2e-05
A27: WH-MDC05J3E5-1 | B27: 5025232989416 | C27: A2W | D27: EXTERIOR | E27: b) Mono | F27: LT 1ph | G27: Aquarea High Performance J serie 5 kW 1ph monobloc gris oscuro | H27: Aquarea J series monobloque de 5kW 1ph | M27: 3468 | P27: 667200 | Q27: 111 | R27: 96 | S27: 139 | T27: 50 | U27: R32 | V27: 1.3 | W27: 675 | X27: 0.878
A28: WH-MDC07J3E5-1 | B28: 5025232989423 | C28: A2W | D28: EXTERIOR | E28: b) Mono | F28: LT 1ph | G28: Aquarea High Performance J serie 7 kW 1ph monobloc gris oscuro | H28: Aquarea J series 7kW monobloque 1ph | M28: 4743 | P28: 667200 | Q28: 116 | R28: 96 | S28: 139 | T28: 50 | U28: R32 | V28: 1.3 | W28: 675 | X28: 0.878
A29: WH-MDC09J3E5-1 | B29: 5025232989430 | C29: A2W | D29: EXTERIOR | E29: b) Mono | F29: LT 1ph | G29: Aquarea High Performance J serie 9 kW 1ph monobloc gris oscuro | H29: Aquarea J serie monobloque de 9kW 1ph | M29: 5519 | P29: 667200 | Q29: 116 | R29: 96 | S29: 139 | T29: 50 | U29: R32 | V29: 1.3 | W29: 675 | X29: 0.878
A30: WH-WXG09ME5 | B30: 5025232979011 | C30: A2W | D30: EXTERIOR | E30: a) Bi | F30: Tcap 1ph | G30: Aquarea T-CAP serie M R290 unidad exterior de 9 kW 1ph | H30: Unidad exterior Aquarea M series 9 kW 1ph | M30: 8536 | P30: 1338480 | Q30: 172 | R30: 169 | S30: 132 | T30: 60 | U30: R290 | V30: 1.78 | W30: 0.02 | X30: 3.56e-05
A31: WH-WXG12ME5 | B31: 5025232979028 | C31: A2W | D31: EXTERIOR | E31: a) Bi | F31: Tcap 1ph | G31: Aquarea T-CAP serie M R290 unidad exterior 12 kW 1ph | H31: Unidad exterior Aquarea M serie 12 kW 1ph | M31: 9291 | P31: 1338480 | Q31: 172 | R31: 169 | S31: 132 | T31: 60 | U31: R290 | V31: 1.78 | W31: 0.02 | X31: 3.56e-05
A32: WH-WXG09ME8 | B32: 5025232968701 | C32: A2W | D32: EXTERIOR | E32: a) Bi | F32: Tcap 3ph | G32: Aquarea T-CAP serie M R290 unidad exterior de 9 kW 3ph | H32: Unidad exterior Aquarea M series de 9 kW 3ph | M32: 9163 | P32: 1311570 | Q32: 175 | R32: 171 | S32: 130 | T32: 59 | U32: R290 | V32: 1.78 | W32: 0.02 | X32: 3.56e-05
A33: WH-WXG12ME8 | B33: 5025232968718 | C33: A2W | D33: EXTERIOR | E33: a) Bi | F33: Tcap 3ph | G33: Aquarea T-CAP serie M R290 unidad exterior 12 kW 3ph | H33: Unidad exterior Aquarea M serie 12 kW 3ph | M33: 10658 | P33: 1293870 | Q33: 175 | R33: 170 | S33: 129 | T33: 59 | U33: R290 | V33: 1.78 | W33: 0.02 | X33: 3.56e-05
... A37: WH-WXG30ME8 | B37: 5025232968565 | C37: A2W | D37: EXTERIOR | E37: c) Big A2W | F37: Big A2w | G37: Big Aquarea T-CAP serie M R290 unidad exterior 30 kW 3ph | H37: Unidad exterior Aquarea M serie 30 kW 3ph | M37: 24877 | P37: 2017730 | Q37: 270 | R37: 187 | S37: 166 | T37: 65 | U37: R290 | V37: 3 | W37: 0.02 | X37: 6e-05
A38: WH-ADC0916M3E51 | B38: 5025232986170 | C38: A2W | D38: INTERIOR | E38: d) All in one | F38: 1ph (COMPACT) | G38: Aquarea all in one hidrosplit serie M 9-16 kW con resistencia de 3 kW 1ph 120 L | H38: Aquarea serie M todo-en-uno 1ph | M38: 4880 | P38: 895068 | Q38: 79 | R38: 188 | S38: 69 | T38: 69 | U38: - | V38: - | W38: - | X38: -
A39: WH-ADC0316M9E81 | B39: 5025232986156 | C39: A2W | D39: INTERIOR | E39: d) All in one | F39: 3ph | G39: Aquarea all in one hidrosplit M serie 9-16 kW con resistencia de 9 kW 3ph 120 L | H39: Aquarea serie M todo-en-uno 1ph | M39: 4433 | P39: 718428 | Q39: 83 | R39: 152 | S39: 69 | T39: 68.5 | U39: - | V39: - | W39: - | X39: -
A40: WH-ADC0916M3E52 | B40: 5025232978571 | C40: A2W | D40: INTERIOR | E40: d) All in one | F40: 1ph | G40: Aquarea all in one hidrosplit serie M 9-16 kW con resistencia de 3 kW 1ph 185 L | H40: Aquarea serie M todo-en-uno 1ph | M40: 5030 | P40: 895068 | Q40: 97 | R40: 188 | S40: 69 | T40: 69 | U40: - | V40: - | W40: - | X40: -
A41: WH-ADC0916M3E5AN2 | B41: 5025232978588 | C41: A2W | D41: INTERIOR | E41: d) All in one | F41: 1ph | G41: Aquarea all in one hidrosplit serie M 9-16 kW con resistencia de 3 kW 1ph 185 L con ánodo electrónico | H41: Aquarea serie M todo-en-uno 1ph AN | M41: 5516 | P41: 895068 | Q41: 97 | R41: 188 | S41: 69 | T41: 69 | U41: - | V41: - | W41: - | X41: -
A42: WH-ADC0916M6E52 | B42: 5025232978601 | C42: A2W | D42: INTERIOR | E42: d) All in one | F42: 1ph | G42: Aquarea all in one hidrosplit M serie 9-16 kW con resistencia de 6 kW 1ph 185 L | H42: Aquarea serie M todo-en-uno 1ph | M42: 5081 | P42: 1073088 | Q42: 97 | R42: 192 | S42: 81 | T42: 69 | U42: - | V42: - | W42: - | X42: -
A43: WH-ADC0316M9E82 | B43: 5025232968688 | C43: A2W | D43: INTERIOR | E43: d) All in one | F43: 3ph | G43: Aquarea all in one hidrosplit serie M 3-16 kW con resistencia de 9 kW 3ph 185 L | H43: Aquarea serie M todo-en-uno 3ph | M43: 5222 | P43: 895068 | Q43: 98 | R43: 188 | S43: 69 | T43: 69 | U43: - | V43: - | W43: - | X43: -
A44: WH-ADC0316M9E8AN2 | B44: 5025232968695 | C44: A2W | D44: INTERIOR | E44: d) All in one | F44: 3ph (DK) | G44: Aquarea all in one hidrosplit serie M 3-16 kW con resistencia de 9 kW 3ph 185 L con ánodo electrónico | H44: Aquarea serie M todo-en-uno 3ph AN | M44: 5754 | P44: 895068 | Q44: 98 | R44: 188 | S44: 69 | T44: 69 | U44: - | V44: - | W44: - | X44: -
A45: WH-ADC0916M3E53 | B45: 5025232977994 | C45: A2W | D45: INTERIOR | E45: d) All in one | F45: 1ph | G45: Aquarea Hydrosplit M todo en uno, 9-16 kW con resistencia de 3 kW, 1 ph 260 L | H45: Aquarea serie M todo-en-uno 260L 1ph | M45: 5285 | P45: 1013472 | Q45: 114 | R45: 216 | S45: 69 | T45: 68 | U45: - | V45: - | W45: - | X45: -
A46: WH-ADC0916M3E5AN3 | B46: 5025232978007 | C46: A2W | D46: INTERIOR | E46: d) All in one | F46: 1ph (DK) | G46: Aquarea Hydrosplit M todo en uno, 9-16 kW con resistencia de 3 kW, 1 ph 260 L con ánodo electrónico | H46: Aquarea serie M todo-en-uno 260L 1ph AN | M46: 5667 | P46: 1073088 | Q46: 114 | R46: 192 | S46: 81 | T46: 69 | U46: - | V46: - | W46: - | X46: -
...

Sheet Descripciones originales
A1: Descripción completa
A2: Aquarea High Performance L series R290 5 kW 1ph outdoor unit
A3: Aquarea High Performance L series R290 7 kW 1ph outdoor unit
A4: Aquarea High Performance L series R290 9 kW 1ph outdoor unit
A5: Aquarea All-in-one hydrosplit L series 5-9 kW with 3 kW heater 1ph 120 L
A6: Aquarea All-in-one hydrosplit L series 5-9 kW with 3 kW heater 1ph
A7: Aquarea All-in-one hydrosplit L series 5-9 kW with 3 kW heater 1ph with electronic anode
A8: Aquarea All-in-one hydrosplit L series 5-9 kW with 3 kW heater 1ph with 2 zone kit
A9: Aquarea All-in-one hydrosplit L series 5-9 kW with 6 kW heater 1ph
A10: Aquarea All-in-one hydrosplit L series 5-9 kW with 6 kW heater 1ph with electronic anode
A11: Aquarea High Performance Hydrobox L series 5-9 kW with 3 kW heater 1ph
A12: Aquarea High Performance Hydrobox L series 5-9 kW with 6 kW heater 1ph
... A1306: Compressor oil FV32S 0,5L for iCOOL

Sheet A2W
B1: Bomba de calor aire-agua Aquarea - Lista de precios 2026
B3: País | D3: España
B4: Divisa | D4: EUR
B5: Validez | D5: {=+'Tarifa compacta'!B6:C6} -> 46296 | E5: 0
B7: ='Tarifa compacta'!A8 -> * PVPR significa Precio de Venta al Público Recomendado. Los precios no incluyen IVA. Todos los precios están sujetos a cambios o retirada sin previo aviso.
C9: EAN | D9: Material | E9: Descripción | F9: PVPR* | G9: REEE | H9: Disponibilidad | I9: Comentarios
B10: Aquarea sistemas hidráulicos
D11: Aquarea High Performance Serie L, Monofásico. Calefacción y Refrigeración • R290
D12: Unidades exteriores
C13: =IFERROR(VLOOKUP(D13,'Tarifa compacta'!A:C,2,FALSE),"-") -> 5025232945603 | D13: WH-WDG05LE5 | E13: =+VLOOKUP($D13,'Tarifa compacta'!$A:$G,7,0) -> Aquarea High Performance L serie R290 unidad exterior de 5 kW 1ph | F13: =+IFERROR(VLOOKUP($D13,'Tarifa compacta'!$A$11:$O$1018,13,0),"") -> 3734 | G13: =IFERROR(IF(VLOOKUP($D13,'Tarifa compacta'!$A$11:$O$1018,15,0)=0,"",VLOOKUP($D13,'Tarifa compacta'!$A$11:$O$1018,15,0)),"") | H13: =IFERROR(IF(VLOOKUP($D13,'Tarifa compacta'!$A$11:$O$1018,12,0)=0,"",VLOOKUP($D13,'Tarifa compacta'!$A$11:$O$1018,12,0)),"")
C14: =IFERROR(VLOOKUP(D14,'Tarifa compacta'!A:C,2,FALSE),"-") -> 5025232945610 | D14: WH-WDG07LE5 | E14: =+VLOOKUP($D14,'Tarifa compacta'!$A:$G,7,0) -> Aquarea High Performance L serie R290 unidad exterior 7 kW 1ph | F14: =+IFERROR(VLOOKUP($D14,'Tarifa compacta'!$A$11:$O$1018,13,0),"") -> 4496 | G14: =IFERROR(IF(VLOOKUP($D14,'Tarifa compacta'!$A$11:$O$1018,15,0)=0,"",VLOOKUP($D14,'Tarifa compacta'!$A$11:$O$1018,15,0)),"") | H14: =IFERROR(IF(VLOOKUP($D14,'Tarifa compacta'!$A$11:$O$1018,12,0)=0,"",VLOOKUP($D14,'Tarifa compacta'!$A$11:$O$1018,12,0)),"")
C15: =IFERROR(VLOOKUP(D15,'Tarifa compacta'!A:C,2,FALSE),"-") -> 5025232945627 | D15: WH-WDG09LE5 | E15: =+VLOOKUP($D15,'Tarifa compacta'!$A:$G,7,0) -> Aquarea High Performance L serie R290 unidad exterior de 9 kW 1ph | F15: =+IFERROR(VLOOKUP($D15,'Tarifa compacta'!$A$11:$O$1018,13,0),"") -> 4846 | G15: =IFERROR(IF(VLOOKUP($D15,'Tarifa compacta'!$A$11:$O$1018,15,0)=0,"",VLOOKUP($D15,'Tarifa compacta'!$A$11:$O$1018,15,0)),"") | H15: =IFERROR(IF(VLOOKUP($D15,'Tarifa compacta'!$A$11:$O$1018,12,0)=0,"",VLOOKUP($D15,'Tarifa compacta'!$A$11:$O$1018,12,0)),"")
D16: Unidades interiores All-in-One 120 L
C17: =IFERROR(VLOOKUP(D17,'Tarifa compacta'!A:C,2,FALSE),"-") -> 4010869633796 | D17: WH-ADC0509L3E51 | E17: =+VLOOKUP($D17,'Tarifa compacta'!$A:$G,7,0) -> Aquarea all in one hidrosplit serie L 5-9 kW con resistencia de 3 kW 1ph 120 L | F17: =+IFERROR(VLOOKUP($D17,'Tarifa compacta'!$A$11:$O$1018,13,0),"") -> 4456 | G17: =IFERROR(IF(VLOOKUP($D17,'Tarifa compacta'!$A$11:$O$1018,15,0)=0,"",VLOOKUP($D17,'Tarifa compacta'!$A$11:$O$1018,15,0)),"") | H17: =IFERROR(IF(VLOOKUP($D17,'Tarifa compacta'!$A$11:$O$1018,12,0)=0,"",VLOOKUP($D17,'Tarifa compacta'!$A$11:$O$1018,12,0)),"")
D18: Unidades interiores All-in-One 185 L
C19: =IFERROR(VLOOKUP(D19,'Tarifa compacta'!A:C,2,FALSE),"-") -> 5025232946617 | D19: WH-ADC0509L3E5 | E19: =+VLOOKUP($D19,'Tarifa compacta'!$A:$G,7,0) -> Aquarea all in one hidrosplit serie L 5-9 kW con resistencia de 3 kW de 1 ph | F19: =+IFERROR(VLOOKUP($D19,'Tarifa compacta'!$A$11:$O$1018,13,0),"") -> 4594 | G19: =IFERROR(IF(VLOOKUP($D19,'Tarifa compacta'!$A$11:$O$1018,15,0)=0,"",VLOOKUP($D19,'Tarifa compacta'!$A$11:$O$1018,15,0)),"") | H19: =IFERROR(IF(VLOOKUP($D19,'Tarifa compacta'!$A$11:$O$1018,12,0)=0,"",VLOOKUP($D19,'Tarifa compacta'!$A$11:$O$1018,12,0)),"")
C20: =IFERROR(VLOOKUP(D20,'Tarifa compacta'!A:C,2,FALSE),"-") -> 5025232946624 | D20: WH-ADC0509L3E5AN | E20: =+VLOOKUP($D20,'Tarifa compacta'!$A:$G,7,0) -> Aquarea all in one hidrosplit serie L 5-9 kW con resistencia de 3 kW de 1ph con ánodo electrónico | F20: =+IFERROR(VLOOKUP($D20,'Tarifa compacta'!$A$11:$O$1018,13,0),"") -> 5065 | G20: =IFERROR(IF(VLOOKUP($D20,'Tarifa compacta'!$A$11:$O$1018,15,0)=0,"",VLOOKUP($D20,'Tarifa compacta'!$A$11:$O$1018,15,0)),"") | H20: =IFERROR(IF(VLOOKUP($D20,'Tarifa compacta'!$A$11:$O$1018,12,0)=0,"",VLOOKUP($D20,'Tarifa compacta'!$A$11:$O$1018,12,0)),"")
C21: =IFERROR(VLOOKUP(D21,'Tarifa compacta'!A:C,2,FALSE),"-") -> 5025232946631 | D21: WH-ADC0509L3E5B | E21: =+VLOOKUP($D21,'Tarifa compacta'!$A:$G,7,0) -> Aquarea all in one hidrosplit serie L 5-9 kW con resistencia de 3 kW de 1ph con kit 2 zonas | F21: =+IFERROR(VLOOKUP($D21,'Tarifa compacta'!$A$11:$O$1018,13,0),"") -> 5972 | G21: =IFERROR(IF(VLOOKUP($D21,'Tarifa compacta'!$A$11:$O$1018,15,0)=0,"",VLOOKUP($D21,'Tarifa compacta'!$A$11:$O$1018,15,0)),"") | H21: =IFERROR(IF(VLOOKUP($D21,'Tarifa compacta'!$A$11:$O$1018,12,0)=0,"",VLOOKUP($D21,'Tarifa compacta'!$A$11:$O$1018,12,0)),"")
D22: Unidades interiores Bi-bloc
C23: =IFERROR(VLOOKUP(D23,'Tarifa compacta'!A:C,2,FALSE),"-") -> 5025232951338 | D23: WH-SDC0509L3E5 | E23: =+VLOOKUP($D23,'Tarifa compacta'!$A:$G,7,0) -> Aquarea High Performance Hydrobox serie L 5-9 kW con resistencia de 3 kW de 1 ph | F23: =+IFERROR(VLOOKUP($D23,'Tarifa compacta'!$A$11:$O$1018,13,0),"") -> 2588 | G23: =IFERROR(IF(VLOOKUP($D23,'Tarifa compacta'!$A$11:$O$1018,15,0)=0,"",VLOOKUP($D23,'Tarifa compacta'!$A$11:$O$1018,15,0)),"") | H23: =IFERROR(IF(VLOOKUP($D23,'Tarifa compacta'!$A$11:$O$1018,12,0)=0,"",VLOOKUP($D23,'Tarifa compacta'!$A$11:$O$1018,12,0)),"")
D24: Aquarea High Performance Serie M, Monofásico y Trifásico. Calefacción y Refrigeración • R290
D25: Unidades exteriores
C26: =IFERROR(VLOOKUP(D26,'Tarifa compacta'!A:C,2,FALSE),"-") -> 5025232984817 | D26: WH-WDG12ME5 | E26: =+VLOOKUP($D26,'Tarifa compacta'!$A:$G,7,0) -> Aquarea High Performance M serie R290 unidad exterior de 12 kW 1ph | F26: =+IFERROR(VLOOKUP($D26,'Tarifa compacta'!$A$11:$O$1018,13,0),"") -> 7179 | G26: =IFERROR(IF(VLOOKUP($D26,'Tarifa compacta'!$A$11:$O$1018,15,0)=0,"",VLOOKUP($D26,'Tarifa compacta'!$A$11:$O$1018,15,0)),"") | H26: =IFERROR(IF(VLOOKUP($D26,'Tarifa compacta'!$A$11:$O$1018,12,0)=0,"",VLOOKUP($D26,'Tarifa compacta'!$A$11:$O$1018,12,0)),"")
C27: =IFERROR(VLOOKUP(D27,'Tarifa compacta'!A:C,2,FALSE),"-") -> 5025232984831 | D27: WH-WDG16ME5 | E27: =+VLOOKUP($D27,'Tarifa compacta'!$A:$G,7,0) -> Aquarea High Performance M serie R290 unidad exterior de 16 kW 1ph | F27: =+IFERROR(VLOOKUP($D27,'Tarifa compacta'!$A$11:$O$1018,13,0),"") -> 8106 | G27: =IFERROR(IF(VLOOKUP($D27,'Tarifa compacta'!$A$11:$O$1018,15,0)=0,"",VLOOKUP($D27,'Tarifa compacta'!$A$11:$O$1018,15,0)),"") | H27: =IFERROR(IF(VLOOKUP($D27,'Tarifa compacta'!$A$11:$O$1018,12,0)=0,"",VLOOKUP($D27,'Tarifa compacta'!$A$11:$O$1018,12,0)),"")
C28: =IFERROR(VLOOKUP(D28,'Tarifa compacta'!A:C,2,FALSE),"-") -> 5025232984800 | D28: WH-WDG09ME8 | E28: =+VLOOKUP($D28,'Tarifa compacta'!$A:$G,7,0) -> Aquarea High Performance M serie R290 unidad exterior de 9 kW 3ph | F28: =+IFERROR(VLOOKUP($D28,'Tarifa compacta'!$A$11:$O$1018,13,0),"") -> 6347 | G28: =IFERROR(IF(VLOOKUP($D28,'Tarifa compacta'!$A$11:$O$1018,15,0)=0,"",VLOOKUP($D28,'Tarifa compacta'!$A$11:$O$1018,15,0)),"") | H28: =IFERROR(IF(VLOOKUP($D28,'Tarifa compacta'!$A$11:$O$1018,12,0)=0,"",VLOOKUP($D28,'Tarifa compacta'!$A$11:$O$1018,12,0)),"")
C29: =IFERROR(VLOOKUP(D29,'Tarifa compacta'!A:C,2,FALSE),"-") -> 5025232984824 | D29: WH-WDG12ME8 | E29: =+VLOOKUP($D29,'Tarifa compacta'!$A:$G,7,0) -> Aquarea High Performance M serie R290 unidad exterior de 12 kW 3ph | F29: =+IFERROR(VLOOKUP($D29,'Tarifa compacta'!$A$11:$O$1018,13,0),"") -> 8175 | G29: =IFERROR(IF(VLOOKUP($D29,'Tarifa compacta'!$A$11:$O$1018,15,0)=0,"",VLOOKUP($D29,'Tarifa compacta'!$A$11:$O$1018,15,0)),"") | H29: =IFERROR(IF(VLOOKUP($D29,'Tarifa compacta'!$A$11:$O$1018,12,0)=0,"",VLOOKUP($D29,'Tarifa compacta'!$A$11:$O$1018,12,0)),"")
C30: =IFERROR(VLOOKUP(D30,'Tarifa compacta'!A:C,2,FALSE),"-") -> 5025232984848 | D30: WH-WDG16ME8 | E30: =+VLOOKUP($D30,'Tarifa compacta'!$A:$G,7,0) -> Aquarea High Performance M serie R290 unidad exterior de 16 kW 3ph | F30: =+IFERROR(VLOOKUP($D30,'Tarifa compacta'!$A$11:$O$1018,13,0),"") -> 9231 | G30: =IFERROR(IF(VLOOKUP($D30,'Tarifa compacta'!$A$11:$O$1018,15,0)=0,"",VLOOKUP($D30,'Tarifa compacta'!$A$11:$O$1018,15,0)),"") | H30: =IFERROR(IF(VLOOKUP($D30,'Tarifa compacta'!$A$11:$O$1018,12,0)=0,"",VLOOKUP($D30,'Tarifa compacta'!$A$11:$O$1018,12,0)),"")
D31: Unidades interiores All-in-One 120 L
C32: =IFERROR(VLOOKUP(D32,'Tarifa compacta'!A:C,2,FALSE),"-") -> 5025232986170 | D32: WH-ADC0916M3E51 | E32: =+VLOOKUP($D32,'Tarifa compacta'!$A:$G,7,0) -> Aquarea all in one hidrosplit serie M 9-16 kW con resistencia de 3 kW 1ph 120 L | F32: =+IFERROR(VLOOKUP($D32,'Tarifa compacta'!$A$11:$O$1018,13,0),"") -> 4880 | G32: =IFERROR(IF(VLOOKUP($D32,'Tarifa compacta'!$A$11:$O$1018,15,0)=0,"",VLOOKUP($D32,'Tarifa compacta'!$A$11:$O$1018,15,0)),"") | H32: =IFERROR(IF(VLOOKUP($D32,'Tarifa compacta'!$A$11:$O$1018,12,0)=0,"",VLOOKUP($D32,'Tarifa compacta'!$A$11:$O$1018,12,0)),"")
C33: =IFERROR(VLOOKUP(D33,'Tarifa compacta'!A:C,2,FALSE),"-") -> 5025232986156 | D33: WH-ADC0316M9E81 | E33: =+VLOOKUP($D33,'Tarifa compacta'!$A:$G,7,0) -> Aquarea all in one hidrosplit M serie 9-16 kW con resistencia de 9 kW 3ph 120 L | F33: =+IFERROR(VLOOKUP($D33,'Tarifa compacta'!$A$11:$O$1018,13,0),"") -> 4433 | G33: =IFERROR(IF(VLOOKUP($D33,'Tarifa compacta'!$A$11:$O$1018,15,0)=0,"",VLOOKUP($D33,'Tarifa compacta'!$A$11:$O$1018,15,0)),"") | H33: =IFERROR(IF(VLOOKUP($D33,'Tarifa compacta'!$A$11:$O$1018,12,0)=0,"",VLOOKUP($D33,'Tarifa compacta'!$A$11:$O$1018,12,0)),"")
D34: Unidades interiores All-in-One 185 L
C35: =IFERROR(VLOOKUP(D35,'Tarifa compacta'!A:C,2,FALSE),"-") -> 5025232978571 | D35: WH-ADC0916M3E52 | E35: =+VLOOKUP($D35,'Tarifa compacta'!$A:$G,7,0) -> Aquarea all in one hidrosplit serie M 9-16 kW con resistencia de 3 kW 1ph 185 L | F35: =+IFERROR(VLOOKUP($D35,'Tarifa compacta'!$A$11:$O$1018,13,0),"") -> 5030 | G35: =IFERROR(IF(VLOOKUP($D35,'Tarifa compacta'!$A$11:$O$1018,15,0)=0,"",VLOOKUP($D35,'Tarifa compacta'!$A$11:$O$1018,15,0)),"") | H35: =IFERROR(IF(VLOOKUP($D35,'Tarifa compacta'!$A$11:$O$1018,12,0)=0,"",VLOOKUP($D35,'Tarifa compacta'!$A$11:$O$1018,12,0)),"")
C36: =IFERROR(VLOOKUP(D36,'Tarifa compacta'!A:C,2,FALSE),"-") -> 5025232978588 | D36: WH-ADC0916M3E5AN2 | E36: =+VLOOKUP($D36,'Tarifa compacta'!$A:$G,7,0) -> Aquarea all in one hidrosplit serie M 9-16 kW con resistencia de 3 kW 1ph 185 L con ánodo electrónico | F36: =+IFERROR(VLOOKUP($D36,'Tarifa compacta'!$A$11:$O$1018,13,0),"") -> 5516 | G36: =IFERROR(IF(VLOOKUP($D36,'Tarifa compacta'!$A$11:$O$1018,15,0)=0,"",VLOOKUP($D36,'Tarifa compacta'!$A$11:$O$1018,15,0)),"") | H36: =IFERROR(IF(VLOOKUP($D36,'Tarifa compacta'!$A$11:$O$1018,12,0)=0,"",VLOOKUP($D36,'Tarifa compacta'!$A$11:$O$1018,12,0)),"")
C37: =IFERROR(VLOOKUP(D37,'Tarifa compacta'!A:C,2,FALSE),"-") -> 5025232968688 | D37: WH-ADC0316M9E82 | E37: =+VLOOKUP($D37,'Tarifa compacta'!$A:$G,7,0) -> Aquarea all in one hidrosplit serie M 3-16 kW con resistencia de 9 kW 3ph 185 L | F37: =+IFERROR(VLOOKUP($D37,'Tarifa compacta'!$A$11:$O$1018,13,0),"") -> 5222 | G37: =IFERROR(IF(VLOOKUP($D37,'Tarifa compacta'!$A$11:$O$1018,15,0)=0,"",VLOOKUP($D37,'Tarifa compacta'!$A$11:$O$1018,15,0)),"") | H37: =IFERROR(IF(VLOOKUP($D37,'Tarifa compacta'!$A$11:$O$1018,12,0)=0,"",VLOOKUP($D37,'Tarifa compacta'!$A$11:$O$1018,12,0)),"")
C38: =IFERROR(VLOOKUP(D38,'Tarifa compacta'!A:C,2,FALSE),"-") -> 5025232968695 | D38: WH-ADC0316M9E8AN2 | E38: =+VLOOKUP($D38,'Tarifa compacta'!$A:$G,7,0) -> Aquarea all in one hidrosplit serie M 3-16 kW con resistencia de 9 kW 3ph 185 L con ánodo electrónico | F38: =+IFERROR(VLOOKUP($D38,'Tarifa compacta'!$A$11:$O$1018,13,0),"") -> 5754 | G38: =IFERROR(IF(VLOOKUP($D38,'Tarifa compacta'!$A$11:$O$1018,15,0)=0,"",VLOOKUP($D38,'Tarifa compacta'!$A$11:$O$1018,15,0)),"") | H38: =IFERROR(IF(VLOOKUP($D38,'Tarifa compacta'!$A$11:$O$1018,12,0)=0,"",VLOOKUP($D38,'Tarifa compacta'!$A$11:$O$1018,12,0)),"")
D39: Unidades interiores All-in-One 260 L
C40: =IFERROR(VLOOKUP(D40,'Tarifa compacta'!A:C,2,FALSE),"-") -> 5025232977994 | D40: WH-ADC0916M3E53 | E40: =+VLOOKUP($D40,'Tarifa compacta'!$A:$G,7,0) -> Aquarea Hydrosplit M todo en uno, 9-16 kW con resistencia de 3 kW, 1 ph 260 L | F40: =+IFERROR(VLOOKUP($D40,'Tarifa compacta'!$A$11:$O$1018,13,0),"") -> 5285 | G40: =IFERROR(IF(VLOOKUP($D40,'Tarifa compacta'!$A$11:$O$1018,15,0)=0,"",VLOOKUP($D40,'Tarifa compacta'!$A$11:$O$1018,15,0)),"") | H40: =IFERROR(IF(VLOOKUP($D40,'Tarifa compacta'!$A$11:$O$1018,12,0)=0,"",VLOOKUP($D40,'Tarifa compacta'!$A$11:$O$1018,12,0)),"")
C41: =IFERROR(VLOOKUP(D41,'Tarifa compacta'!A:C,2,FALSE),"-") -> 5025232978007 | D41: WH-ADC0916M3E5AN3 | E41: =+VLOOKUP($D41,'Tarifa compacta'!$A:$G,7,0) -> Aquarea Hydrosplit M todo en uno, 9-16 kW con resistencia de 3 kW, 1 ph 260 L con ánodo electrónico | F41: =+IFERROR(VLOOKUP($D41,'Tarifa compacta'!$A$11:$O$1018,13,0),"") -> 5667 | G41: =IFERROR(IF(VLOOKUP($D41,'Tarifa compacta'!$A$11:$O$1018,15,0)=0,"",VLOOKUP($D41,'Tarifa compacta'!$A$11:$O$1018,15,0)),"") | H41: =IFERROR(IF(VLOOKUP($D41,'Tarifa compacta'!$A$11:$O$1018,12,0)=0,"",VLOOKUP($D41,'Tarifa compacta'!$A$11:$O$1018,12,0)),"")
C42: =IFERROR(VLOOKUP(D42,'Tarifa compacta'!A:C,2,FALSE),"-") -> 5025232976980 | D42: WH-ADC0316M9E83 | E42: =+VLOOKUP($D42,'Tarifa compacta'!$A:$G,7,0) -> Aquarea all in one hidrosplit serie M 9-16 kW con resistencia de 9 kW 3ph 260 L | F42: =+IFERROR(VLOOKUP($D42,'Tarifa compacta'!$A$11:$O$1018,13,0),"") -> 5838 | G42: =IFERROR(IF(VLOOKUP($D42,'Tarifa compacta'!$A$11:$O$1018,15,0)=0,"",VLOOKUP($D42,'Tarifa compacta'!$A$11:$O$1018,15,0)),"") | H42: =IFERROR(IF(VLOOKUP($D42,'Tarifa compacta'!$A$11:$O$1018,12,0)=0,"",VLOOKUP($D42,'Tarifa compacta'!$A$11:$O$1018,12,0)),"")
C43: =IFERROR(VLOOKUP(D43,'Tarifa compacta'!A:C,2,FALSE),"-") -> 5025232976997 | D43: WH-ADC0316M9E8AN3 | E43: =+VLOOKUP($D43,'Tarifa compacta'!$A:$G,7,0) -> Aquarea all in one hidrosplit serie M 9-16 kW con resistencia de 9 kW 3ph 260 L con ánodo electrónico | F43: =+IFERROR(VLOOKUP($D43,'Tarifa compacta'!$A$11:$O$1018,13,0),"") -> 6338 | G43: =IFERROR(IF(VLOOKUP($D43,'Tarifa compacta'!$A$11:$O$1018,15,0)=0,"",VLOOKUP($D43,'Tarifa compacta'!$A$11:$O$1018,15,0)),"") | H43: =IFERROR(IF(VLOOKUP($D43,'Tarifa compacta'!$A$11:$O$1018,12,0)=0,"",VLOOKUP($D43,'Tarifa compacta'!$A$11:$O$1018,12,0)),"")
...

Sheet FCU
B1: Fan Coils - Lista de precios 2026
B3: País | D3: España
B4: Divisa | D4: EUR
B5: Validez | D5: {=+'Tarifa compacta'!B6:C6} -> 46296 | E5: 0
B7: ='Tarifa compacta'!A8 -> * PVPR significa Precio de Venta al Público Recomendado. Los precios no incluyen IVA. Todos los precios están sujetos a cambios o retirada sin previo aviso.
C9: EAN | D9: Material | E9: Descripción | F9: PVPR* | G9: REEE | H9: Disponibilidad | I9: Comentarios
B10: Aquarea Air Smart Fan coils
D11: Aquarea Air Smart Fan Coil de suelo
C12: =IFERROR(VLOOKUP(D12,'Tarifa compacta'!A:C,2,FALSE),"-") -> 4010869593144 | D12: P-FAL10SC-HLE | E12: =+VLOOKUP($D12,'Tarifa compacta'!$A:$G,7,0) -> Fan coil de suelo. Pantalla a bordo. Tubería izquierda. Válvula integrada de 3 vías | F12: =+IFERROR(VLOOKUP($D12,'Tarifa compacta'!$A$11:$O$1018,13,0),"") -> 1222 | H12: =IFERROR(IF(VLOOKUP($D12,'Tarifa compacta'!$A$11:$O$1018,12,0)=0,"",VLOOKUP($D12,'Tarifa compacta'!$A$11:$O$1018,12,0)),"")
C13: =IFERROR(VLOOKUP(D13,'Tarifa compacta'!A:C,2,FALSE),"-") -> 4010869593168 | D13: P-FAL20SC-HLE | E13: =+VLOOKUP($D13,'Tarifa compacta'!$A:$G,7,0) -> Fan coil de suelo. Pantalla a bordo. Tubería izquierda. Válvula integrada de 3 vías | F13: =+IFERROR(VLOOKUP($D13,'Tarifa compacta'!$A$11:$O$1018,13,0),"") -> 1288 | H13: =IFERROR(IF(VLOOKUP($D13,'Tarifa compacta'!$A$11:$O$1018,12,0)=0,"",VLOOKUP($D13,'Tarifa compacta'!$A$11:$O$1018,12,0)),"")
C14: =IFERROR(VLOOKUP(D14,'Tarifa compacta'!A:C,2,FALSE),"-") -> 4010869593182 | D14: P-FAL30SC-HLE | E14: =+VLOOKUP($D14,'Tarifa compacta'!$A:$G,7,0) -> Fan coil de suelo. Pantalla a bordo. Tubería izquierda. Válvula integrada de 3 vías | F14: =+IFERROR(VLOOKUP($D14,'Tarifa compacta'!$A$11:$O$1018,13,0),"") -> 1417 | H14: =IFERROR(IF(VLOOKUP($D14,'Tarifa compacta'!$A$11:$O$1018,12,0)=0,"",VLOOKUP($D14,'Tarifa compacta'!$A$11:$O$1018,12,0)),"")
C15: =IFERROR(VLOOKUP(D15,'Tarifa compacta'!A:C,2,FALSE),"-") -> 4010869593205 | D15: P-FAL35SC-HLE | E15: =+VLOOKUP($D15,'Tarifa compacta'!$A:$G,7,0) -> Fan coil de suelo. Pantalla a bordo. Tubería izquierda. Válvula integrada de 3 vías | F15: =+IFERROR(VLOOKUP($D15,'Tarifa compacta'!$A$11:$O$1018,13,0),"") -> 1585 | H15: =IFERROR(IF(VLOOKUP($D15,'Tarifa compacta'!$A$11:$O$1018,12,0)=0,"",VLOOKUP($D15,'Tarifa compacta'!$A$11:$O$1018,12,0)),"")
C16: =IFERROR(VLOOKUP(D16,'Tarifa compacta'!A:C,2,FALSE),"-") -> 4010869593229 | D16: P-FAL40SC-HLE | E16: =+VLOOKUP($D16,'Tarifa compacta'!$A:$G,7,0) -> Fan coil de suelo. Pantalla a bordo. Tubería izquierda. Válvula integrada de 3 vías | F16: =+IFERROR(VLOOKUP($D16,'Tarifa compacta'!$A$11:$O$1018,13,0),"") -> 1715 | H16: =IFERROR(IF(VLOOKUP($D16,'Tarifa compacta'!$A$11:$O$1018,12,0)=0,"",VLOOKUP($D16,'Tarifa compacta'!$A$11:$O$1018,12,0)),"")
C17: =IFERROR(VLOOKUP(D17,'Tarifa compacta'!A:C,2,FALSE),"-") -> 4010869593151 | D17: P-FAL10SC-RLE | E17: =+VLOOKUP($D17,'Tarifa compacta'!$A:$G,7,0) -> Fan coil de suelo. Con PCB para control montado en la pared. Tubería izquierda. Válvula integrada de 3 vías | F17: =+IFERROR(VLOOKUP($D17,'Tarifa compacta'!$A$11:$O$1018,13,0),"") -> 1160 | H17: =IFERROR(IF(VLOOKUP($D17,'Tarifa compacta'!$A$11:$O$1018,12,0)=0,"",VLOOKUP($D17,'Tarifa compacta'!$A$11:$O$1018,12,0)),"")
C18: =IFERROR(VLOOKUP(D18,'Tarifa compacta'!A:C,2,FALSE),"-") -> 4010869593175 | D18: P-FAL20SC-RLE | E18: =+VLOOKUP($D18,'Tarifa compacta'!$A:$G,7,0) -> Fan coil de suelo. Con PCB para control montado en la pared. Tubería izquierda. Válvula integrada de 3 vías | F18: =+IFERROR(VLOOKUP($D18,'Tarifa compacta'!$A$11:$O$1018,13,0),"") -> 1222 | H18: =IFERROR(IF(VLOOKUP($D18,'Tarifa compacta'!$A$11:$O$1018,12,0)=0,"",VLOOKUP($D18,'Tarifa compacta'!$A$11:$O$1018,12,0)),"")
C19: =IFERROR(VLOOKUP(D19,'Tarifa compacta'!A:C,2,FALSE),"-") -> 4010869593199 | D19: P-FAL30SC-RLE | E19: =+VLOOKUP($D19,'Tarifa compacta'!$A:$G,7,0) -> Fan coil de suelo. Con PCB para control montado en la pared. Tubería izquierda. Válvula integrada de 3 vías | F19: =+IFERROR(VLOOKUP($D19,'Tarifa compacta'!$A$11:$O$1018,13,0),"") -> 1352 | H19: =IFERROR(IF(VLOOKUP($D19,'Tarifa compacta'!$A$11:$O$1018,12,0)=0,"",VLOOKUP($D19,'Tarifa compacta'!$A$11:$O$1018,12,0)),"")
C20: =IFERROR(VLOOKUP(D20,'Tarifa compacta'!A:C,2,FALSE),"-") -> 4010869593212 | D20: P-FAL35SC-RLE | E20: =+VLOOKUP($D20,'Tarifa compacta'!$A:$G,7,0) -> Fan coil de suelo. Con PCB para control montado en la pared. Tubería izquierda. Válvula integrada de 3 vías | F20: =+IFERROR(VLOOKUP($D20,'Tarifa compacta'!$A$11:$O$1018,13,0),"") -> 1519 | H20: =IFERROR(IF(VLOOKUP($D20,'Tarifa compacta'!$A$11:$O$1018,12,0)=0,"",VLOOKUP($D20,'Tarifa compacta'!$A$11:$O$1018,12,0)),"")
C21: =IFERROR(VLOOKUP(D21,'Tarifa compacta'!A:C,2,FALSE),"-") -> 4010869593236 | D21: P-FAL40SC-RLE | E21: =+VLOOKUP($D21,'Tarifa compacta'!$A:$G,7,0) -> Fan coil de suelo. Con PCB para control montado en la pared. Tubería izquierda. Válvula integrada de 3 vías | F21: =+IFERROR(VLOOKUP($D21,'Tarifa compacta'!$A$11:$O$1018,13,0),"") -> 1650 | H21: =IFERROR(IF(VLOOKUP($D21,'Tarifa compacta'!$A$11:$O$1018,12,0)=0,"",VLOOKUP($D21,'Tarifa compacta'!$A$11:$O$1018,12,0)),"")
C22: =IFERROR(VLOOKUP(D22,'Tarifa compacta'!A:C,2,FALSE),"-") -> 4010869593243 | D22: P-FAL10SC-00E | E22: =+VLOOKUP($D22,'Tarifa compacta'!$A:$G,7,0) -> Fan coil de suelo. Tubería izquierda. | F22: =+IFERROR(VLOOKUP($D22,'Tarifa compacta'!$A$11:$O$1018,13,0),"") -> 692 | H22: =IFERROR(IF(VLOOKUP($D22,'Tarifa compacta'!$A$11:$O$1018,12,0)=0,"",VLOOKUP($D22,'Tarifa compacta'!$A$11:$O$1018,12,0)),"")
C23: =IFERROR(VLOOKUP(D23,'Tarifa compacta'!A:C,2,FALSE),"-") -> 4010869593267 | D23: P-FAL20SC-00E | E23: =+VLOOKUP($D23,'Tarifa compacta'!$A:$G,7,0) -> Fan coil de suelo. Tubería izquierda. | F23: =+IFERROR(VLOOKUP($D23,'Tarifa compacta'!$A$11:$O$1018,13,0),"") -> 757 | H23: =IFERROR(IF(VLOOKUP($D23,'Tarifa compacta'!$A$11:$O$1018,12,0)=0,"",VLOOKUP($D23,'Tarifa compacta'!$A$11:$O$1018,12,0)),"")
... C31: =IFERROR(VLOOKUP(D31,'Tarifa compacta'!A:C,2,FALSE),"-") -> 4010869593335 | D31: P-FAL40DC-00E | E31: =+VLOOKUP($D31,'Tarifa compacta'!$A:$G,7,0) -> Fan coil de suelo. Tubería derecha. | F31: =+IFERROR(VLOOKUP($D31,'Tarifa compacta'!$A$11:$O$1018,13,0),"") -> 1231 | H31: =IFERROR(IF(VLOOKUP($D31,'Tarifa compacta'!$A$11:$O$1018,12,0)=0,"",VLOOKUP($D31,'Tarifa compacta'!$A$11:$O$1018,12,0)),"")
D32: Aquarea Air Smart Fan Coil de suelo - Accesorios
C33: =IFERROR(VLOOKUP(D33,'Tarifa compacta'!A:C,2,FALSE),"-") -> 4010869594585 | D33: PCZ-EEB749 | E33: =+VLOOKUP($D33,'Tarifa compacta'!$A:$G,7,0) -> Control montado en la pared con Modbus para Aquarea Air Smart Fan Coils y conducto multizona PACi NX | F33: =+IFERROR(VLOOKUP($D33,'Tarifa compacta'!$A$11:$O$1018,13,0),"") -> 217 | H33: =IFERROR(IF(VLOOKUP($D33,'Tarifa compacta'!$A$11:$O$1018,12,0)=0,"",VLOOKUP($D33,'Tarifa compacta'!$A$11:$O$1018,12,0)),"")
C34: =IFERROR(VLOOKUP(D34,'Tarifa compacta'!A:C,2,FALSE),"-") -> 4010869594592 | D34: PCZ-EFB749 | E34: =+VLOOKUP($D34,'Tarifa compacta'!$A:$G,7,0) -> Control montado en la pared con Wi-Fi integrado para fan coils Aquarea Air Smart y conducto multizona PACi NX | F34: =+IFERROR(VLOOKUP($D34,'Tarifa compacta'!$A$11:$O$1018,13,0),"") -> 262 | H34: =IFERROR(IF(VLOOKUP($D34,'Tarifa compacta'!$A$11:$O$1018,12,0)=0,"",VLOOKUP($D34,'Tarifa compacta'!$A$11:$O$1018,12,0)),"")
C35: =IFERROR(VLOOKUP(D35,'Tarifa compacta'!A:C,2,FALSE),"-") -> 4010869594684 | D35: PCZ-ESE845 | E35: =+VLOOKUP($D35,'Tarifa compacta'!$A:$G,7,0) -> PCB de control montada en la pared para fan coil Aquarea Air Smart Pie en el suelo | F35: =+IFERROR(VLOOKUP($D35,'Tarifa compacta'!$A$11:$O$1018,13,0),"") -> 217 | H35: =IFERROR(IF(VLOOKUP($D35,'Tarifa compacta'!$A$11:$O$1018,12,0)=0,"",VLOOKUP($D35,'Tarifa compacta'!$A$11:$O$1018,12,0)),"")
C36: =IFERROR(VLOOKUP(D36,'Tarifa compacta'!A:C,2,FALSE),"-") -> 4010869594677 | D36: PCZ-ECA844 | E36: =+VLOOKUP($D36,'Tarifa compacta'!$A:$G,7,0) -> Pantalla integrada con Modbus para Aquarea Air Smart Fan coil Soporte de pie | F36: =+IFERROR(VLOOKUP($D36,'Tarifa compacta'!$A$11:$O$1018,13,0),"") -> 281 | H36: =IFERROR(IF(VLOOKUP($D36,'Tarifa compacta'!$A$11:$O$1018,12,0)=0,"",VLOOKUP($D36,'Tarifa compacta'!$A$11:$O$1018,12,0)),"")
C37: =IFERROR(VLOOKUP(D37,'Tarifa compacta'!A:C,2,FALSE),"-") -> 4010869594691 | D37: PCZ-EWA844 | E37: =+VLOOKUP($D37,'Tarifa compacta'!$A:$G,7,0) -> Pantalla integrada con Wi-Fi integrado para Aquarea Air Smart Fan Coil Soporte de pie | F37: =+IFERROR(VLOOKUP($D37,'Tarifa compacta'!$A$11:$O$1018,13,0),"") -> 313 | H37: =IFERROR(IF(VLOOKUP($D37,'Tarifa compacta'!$A$11:$O$1018,12,0)=0,"",VLOOKUP($D37,'Tarifa compacta'!$A$11:$O$1018,12,0)),"")
C38: =IFERROR(VLOOKUP(D38,'Tarifa compacta'!A:C,2,FALSE),"-") -> 4010869594707 | D38: PCZ-B10842 | E38: =+VLOOKUP($D38,'Tarifa compacta'!$A:$G,7,0) -> PCB para control analógico (0-10V) para bobinas ventiladoras Aquarea Air Smart Soporte de suelo | F38: =+IFERROR(VLOOKUP($D38,'Tarifa compacta'!$A$11:$O$1018,13,0),"") -> 151 | H38: =IFERROR(IF(VLOOKUP($D38,'Tarifa compacta'!$A$11:$O$1018,12,0)=0,"",VLOOKUP($D38,'Tarifa compacta'!$A$11:$O$1018,12,0)),"")
C39: =IFERROR(VLOOKUP(D39,'Tarifa compacta'!A:C,2,FALSE),"-") -> 4010869594714 | D39: PCZ-V30720 | E39: =+VLOOKUP($D39,'Tarifa compacta'!$A:$G,7,0) -> Válvula motorizada de 3 vías para Aquarea Air de suelo | F39: =+IFERROR(VLOOKUP($D39,'Tarifa compacta'!$A$11:$O$1018,13,0),"") -> 253 | H39: =IFERROR(IF(VLOOKUP($D39,'Tarifa compacta'!$A$11:$O$1018,12,0)=0,"",VLOOKUP($D39,'Tarifa compacta'!$A$11:$O$1018,12,0)),"")
C40: =IFERROR(VLOOKUP(D40,'Tarifa compacta'!A:C,2,FALSE),"-") -> 4010869594721 | D40: PCZ-V20139 | E40: =+VLOOKUP($D40,'Tarifa compacta'!$A:$G,7,0) -> Válvula motorizada de 2 vías para Aquarea Air Floor de suelo, de pared 40 y de conductos | F40: =+IFERROR(VLOOKUP($D40,'Tarifa compacta'!$A$11:$O$1018,13,0),"") -> 208 | H40: =IFERROR(IF(VLOOKUP($D40,'Tarifa compacta'!$A$11:$O$1018,12,0)=0,"",VLOOKUP($D40,'Tarifa compacta'!$A$11:$O$1018,12,0)),"")
C41: =IFERROR(VLOOKUP(D41,'Tarifa compacta'!A:C,2,FALSE),"-") -> 4010869594769 | D41: PCZ-GB0520 | E41: =+VLOOKUP($D41,'Tarifa compacta'!$A:$G,7,0) -> Bandeja de condensados para instalación horizontal del ventilador Aquarea Air de suelo 10 | F41: =+IFERROR(VLOOKUP($D41,'Tarifa compacta'!$A$11:$O$1018,13,0),"") -> 86 | H41: =IFERROR(IF(VLOOKUP($D41,'Tarifa compacta'!$A$11:$O$1018,12,0)=0,"",VLOOKUP($D41,'Tarifa compacta'!$A$11:$O$1018,12,0)),"")
C42: =IFERROR(VLOOKUP(D42,'Tarifa compacta'!A:C,2,FALSE),"-") -> 4010869594776 | D42: PCZ-GB0521 | E42: =+VLOOKUP($D42,'Tarifa compacta'!$A:$G,7,0) -> Bandeja de condensados para la instalación horizontal del fan coil Aquarea Air Smart de suelo 20 | F42: =+IFERROR(VLOOKUP($D42,'Tarifa compacta'!$A$11:$O$1018,13,0),"") -> 100 | H42: =IFERROR(IF(VLOOKUP($D42,'Tarifa compacta'!$A$11:$O$1018,12,0)=0,"",VLOOKUP($D42,'Tarifa compacta'!$A$11:$O$1018,12,0)),"")
C43: =IFERROR(VLOOKUP(D43,'Tarifa compacta'!A:C,2,FALSE),"-") -> 4010869594783 | D43: PCZ-GB0522 | E43: =+VLOOKUP($D43,'Tarifa compacta'!$A:$G,7,0) -> Bandeja de condensados para instalación horizontal del fan coil Aquarea Air Smart. de suelo 30 | F43: =+IFERROR(VLOOKUP($D43,'Tarifa compacta'!$A$11:$O$1018,13,0),"") -> 106 | H43: =IFERROR(IF(VLOOKUP($D43,'Tarifa compacta'!$A$11:$O$1018,12,0)=0,"",VLOOKUP($D43,'Tarifa compacta'!$A$11:$O$1018,12,0)),"")
C44: =IFERROR(VLOOKUP(D44,'Tarifa compacta'!A:C,2,FALSE),"-") -> 4010869594790 | D44: PCZ-GB0523 | E44: =+VLOOKUP($D44,'Tarifa compacta'!$A:$G,7,0) -> Bandeja de condensados para la instalación horizontal del fan coil Aquarea Air Smart de suelo 35 | F44: =+IFERROR(VLOOKUP($D44,'Tarifa compacta'!$A$11:$O$1018,13,0),"") -> 131 | H44: =IFERROR(IF(VLOOKUP($D44,'Tarifa compacta'!$A$11:$O$1018,12,0)=0,"",VLOOKUP($D44,'Tarifa compacta'!$A$11:$O$1018,12,0)),"")
... C47: =IFERROR(VLOOKUP(D47,'Tarifa compacta'!A:C,2,FALSE),"-") -> 4010869594875 | D47: PCZ-LC0606 | E47: =+VLOOKUP($D47,'Tarifa compacta'!$A:$G,7,0) -> Un conjunto de dos patas para anclar Aquarea Air de suelo | F47: =+IFERROR(VLOOKUP($D47,'Tarifa compacta'!$A$11:$O$1018,13,0),"") -> 131 | H47: =IFERROR(IF(VLOOKUP($D47,'Tarifa compacta'!$A$11:$O$1018,12,0)=0,"",VLOOKUP($D47,'Tarifa compacta'!$A$11:$O$1018,12,0)),"")
C48: =IFERROR(VLOOKUP(D48,'Tarifa compacta'!A:C,2,FALSE),"-") -> - | D48: Aquarea Air Smart Fan Coil de pared
C49: =IFERROR(VLOOKUP(D49,'Tarifa compacta'!A:C,2,FALSE),"-") -> 4010869593373 | D49: P-FMM10DC-QNE | E49: =+VLOOKUP($D49,'Tarifa compacta'!$A:$G,7,0) -> Fan coil de pared. Pantalla integrada y control IR. Tubería derecha. Válvula integrada de 3 vías | F49: =+IFERROR(VLOOKUP($D49,'Tarifa compacta'!$A$11:$O$1018,13,0),"") -> 1275 | H49: =IFERROR(IF(VLOOKUP($D49,'Tarifa compacta'!$A$11:$O$1018,12,0)=0,"",VLOOKUP($D49,'Tarifa compacta'!$A$11:$O$1018,12,0)),"")
C50: =IFERROR(VLOOKUP(D50,'Tarifa compacta'!A:C,2,FALSE),"-") -> 4010869593380 | D50: P-FMM15DC-QNE | E50: =+VLOOKUP($D50,'Tarifa compacta'!$A:$G,7,0) -> Fan coil de pared. Pantalla integrada y control IR. Tubería derecha. Válvula integrada de 3 vías | F50: =+IFERROR(VLOOKUP($D50,'Tarifa compacta'!$A$11:$O$1018,13,0),"") -> 1377 | H50: =IFERROR(IF(VLOOKUP($D50,'Tarifa compacta'!$A$11:$O$1018,12,0)=0,"",VLOOKUP($D50,'Tarifa compacta'!$A$11:$O$1018,12,0)),"")
C51: =IFERROR(VLOOKUP(D51,'Tarifa compacta'!A:C,2,FALSE),"-") -> 4010869593397 | D51: P-FMM20DC-QNE | E51: =+VLOOKUP($D51,'Tarifa compacta'!$A:$G,7,0) -> Fan coil de pared. Pantalla integrada y control IR. Tubería derecha. Válvula integrada de 3 vías | F51: =+IFERROR(VLOOKUP($D51,'Tarifa compacta'!$A$11:$O$1018,13,0),"") -> 1494 | H51: =IFERROR(IF(VLOOKUP($D51,'Tarifa compacta'!$A$11:$O$1018,12,0)=0,"",VLOOKUP($D51,'Tarifa compacta'!$A$11:$O$1018,12,0)),"")
C52: =IFERROR(VLOOKUP(D52,'Tarifa compacta'!A:C,2,FALSE),"-") -> 4010869593595 | D52: P-FMM40DC-QNE | E52: =+VLOOKUP($D52,'Tarifa compacta'!$A:$G,7,0) -> Fan coil de pared. Pantalla integrada y control IR. Tubería derecha. Válvula integrada de 3 vías | F52: =+IFERROR(VLOOKUP($D52,'Tarifa compacta'!$A$11:$O$1018,13,0),"") -> 1656 | H52: =IFERROR(IF(VLOOKUP($D52,'Tarifa compacta'!$A$11:$O$1018,12,0)=0,"",VLOOKUP($D52,'Tarifa compacta'!$A$11:$O$1018,12,0)),"")
...

Sheet RAC
B1: Bomba de calor aire-aire doméstica - Lista de precios 2026
B3: País | D3: España
B4: Divisa | D4: EUR
B5: Validez | D5: 46296
B7: ='Tarifa compacta'!A8 -> * PVPR significa Precio de Venta al Público Recomendado. Los precios no incluyen IVA. Todos los precios están sujetos a cambios o retirada sin previo aviso.
C9: EAN | D9: Material | E9: Descripción | F9: PVPR* | G9: REEE | H9: Disponibilidad | I9: Potencia frío/calor (kW) | J9: SEER | K9: SCOP cálido/medio
B10: Bomba de calor aire-aire doméstica tipo split 1x1
D11: Split Inverter Premium Etherea grafito con nanoe™ X (Mark 3)
C12: =IFERROR(VLOOKUP(D12,'Tarifa compacta'!A:C,2,FALSE),"-") -> - | D12: KIT-XZ20-CKE-H | F12: =+SUM(F13:F14) -> 1546 | G12: =+IF(SUM(G13:G14)=0,"",SUM(G13:G14)) -> 0.02 | H12: =IFERROR(IF(VLOOKUP($D12,'Tarifa compacta'!$A$11:$O$997,12,0)=0,"",VLOOKUP($D12,'Tarifa compacta'!$A$11:$O$997,12,0)),"") | I12: 2,05/2,80 | J12: 8,70 A+++ | K12: 4,80 A++ medio
C13: =IFERROR(VLOOKUP(D13,'Tarifa compacta'!A:C,2,FALSE),"-") -> 5025232987764 | D13: CS-XZ20CKEW-H | E13: =+VLOOKUP($D13,'Tarifa compacta'!$A:$G,7,0) -> Unidad interior 2,0kW gris grafito nanoe™X Mark 3, Wi-Fi integrado, Aerowings 2.0, Función AI-ECO | F13: =+IFERROR(VLOOKUP($D13,'Tarifa compacta'!$A$11:$O$997,13,0),"") -> 726 | G13: =IFERROR(IF(VLOOKUP($D13,'Tarifa compacta'!$A$11:$O$997,15,0)=0,"",VLOOKUP($D13,'Tarifa compacta'!$A$11:$O$997,15,0)),"") -> 0.02 | H13: =IFERROR(IF(VLOOKUP($D13,'Tarifa compacta'!$A$11:$O$997,12,0)=0,"",VLOOKUP($D13,'Tarifa compacta'!$A$11:$O$997,12,0)),"")
C14: =IFERROR(VLOOKUP(D14,'Tarifa compacta'!A:C,2,FALSE),"-") -> 5025232988266 | D14: CU-Z20CKE | E14: =+VLOOKUP($D14,'Tarifa compacta'!$A:$G,7,0) -> Unidad exterior Etherea 2,0kW | F14: =+IFERROR(VLOOKUP($D14,'Tarifa compacta'!$A$11:$O$997,13,0),"") -> 820 | G14: =IFERROR(IF(VLOOKUP($D14,'Tarifa compacta'!$A$11:$O$997,15,0)=0,"",VLOOKUP($D14,'Tarifa compacta'!$A$11:$O$997,15,0)),"") | H14: =IFERROR(IF(VLOOKUP($D14,'Tarifa compacta'!$A$11:$O$997,12,0)=0,"",VLOOKUP($D14,'Tarifa compacta'!$A$11:$O$997,12,0)),"")
C15: =IFERROR(VLOOKUP(D15,'Tarifa compacta'!A:C,2,FALSE),"-") -> - | D15: KIT-XZ25-CKE-H | F15: =+SUM(F16:F17) -> 1643 | G15: =+IF(SUM(G16:G17)=0,"",SUM(G16:G17)) -> 0.02 | H15: =IFERROR(IF(VLOOKUP($D15,'Tarifa compacta'!$A$11:$O$997,12,0)=0,"",VLOOKUP($D15,'Tarifa compacta'!$A$11:$O$997,12,0)),"") | I15: 2,50/3,40 | J15: 9,50 A+++ | K15: 5,20 A+++ medio
C16: =IFERROR(VLOOKUP(D16,'Tarifa compacta'!A:C,2,FALSE),"-") -> 5025232987788 | D16: CS-XZ25CKEW-H | E16: =+VLOOKUP($D16,'Tarifa compacta'!$A:$G,7,0) -> Unidad interior 2,5kW gris grafito nanoe™X Mark 3, Wi-Fi integrado, Aerowings 2.0, Función AI-ECO | F16: =+IFERROR(VLOOKUP($D16,'Tarifa compacta'!$A$11:$O$997,13,0),"") -> 772 | G16: =IFERROR(IF(VLOOKUP($D16,'Tarifa compacta'!$A$11:$O$997,15,0)=0,"",VLOOKUP($D16,'Tarifa compacta'!$A$11:$O$997,15,0)),"") -> 0.02 | H16: =IFERROR(IF(VLOOKUP($D16,'Tarifa compacta'!$A$11:$O$997,12,0)=0,"",VLOOKUP($D16,'Tarifa compacta'!$A$11:$O$997,12,0)),"")
C17: =IFERROR(VLOOKUP(D17,'Tarifa compacta'!A:C,2,FALSE),"-") -> 5025232988297 | D17: CU-Z25CKE | E17: =+VLOOKUP($D17,'Tarifa compacta'!$A:$G,7,0) -> Unidad exterior Etherea 2,5kW | F17: =+IFERROR(VLOOKUP($D17,'Tarifa compacta'!$A$11:$O$997,13,0),"") -> 871 | G17: =IFERROR(IF(VLOOKUP($D17,'Tarifa compacta'!$A$11:$O$997,15,0)=0,"",VLOOKUP($D17,'Tarifa compacta'!$A$11:$O$997,15,0)),"") | H17: =IFERROR(IF(VLOOKUP($D17,'Tarifa compacta'!$A$11:$O$997,12,0)=0,"",VLOOKUP($D17,'Tarifa compacta'!$A$11:$O$997,12,0)),"")
C18: =IFERROR(VLOOKUP(D18,'Tarifa compacta'!A:C,2,FALSE),"-") -> - | D18: KIT-XZ35-CKE-H | F18: =+SUM(F19:F20) -> 1788 | G18: =+IF(SUM(G19:G20)=0,"",SUM(G19:G20)) -> 0.02 | H18: =IFERROR(IF(VLOOKUP($D18,'Tarifa compacta'!$A$11:$O$997,12,0)=0,"",VLOOKUP($D18,'Tarifa compacta'!$A$11:$O$997,12,0)),"") | I18: 3,50/4,00 | J18: 9,50 A+++ | K18: 5,20 A+++ medio
C19: =IFERROR(VLOOKUP(D19,'Tarifa compacta'!A:C,2,FALSE),"-") -> 5025232987801 | D19: CS-XZ35CKEW-H | E19: =+VLOOKUP($D19,'Tarifa compacta'!$A:$G,7,0) -> Unidad interior 3,5kW gris grafito nanoe™X Mark 3, Wi-Fi integrado, Aerowings 2.0, Función AI-ECO | F19: =+IFERROR(VLOOKUP($D19,'Tarifa compacta'!$A$11:$O$997,13,0),"") -> 871 | G19: =IFERROR(IF(VLOOKUP($D19,'Tarifa compacta'!$A$11:$O$997,15,0)=0,"",VLOOKUP($D19,'Tarifa compacta'!$A$11:$O$997,15,0)),"") -> 0.02 | H19: =IFERROR(IF(VLOOKUP($D19,'Tarifa compacta'!$A$11:$O$997,12,0)=0,"",VLOOKUP($D19,'Tarifa compacta'!$A$11:$O$997,12,0)),"")
C20: =IFERROR(VLOOKUP(D20,'Tarifa compacta'!A:C,2,FALSE),"-") -> 5025232988327 | D20: CU-Z35CKE | E20: =+VLOOKUP($D20,'Tarifa compacta'!$A:$G,7,0) -> Unidad exterior Etherea 3,5kW | F20: =+IFERROR(VLOOKUP($D20,'Tarifa compacta'!$A$11:$O$997,13,0),"") -> 917 | G20: =IFERROR(IF(VLOOKUP($D20,'Tarifa compacta'!$A$11:$O$997,15,0)=0,"",VLOOKUP($D20,'Tarifa compacta'!$A$11:$O$997,15,0)),"") | H20: =IFERROR(IF(VLOOKUP($D20,'Tarifa compacta'!$A$11:$O$997,12,0)=0,"",VLOOKUP($D20,'Tarifa compacta'!$A$11:$O$997,12,0)),"")
C21: =IFERROR(VLOOKUP(D21,'Tarifa compacta'!A:C,2,FALSE),"-") -> - | D21: KIT-XZ42-CKE-H | F21: =+SUM(F22:F23) -> 2142 | G21: =+IF(SUM(G22:G23)=0,"",SUM(G22:G23)) -> 0.02 | H21: =IFERROR(IF(VLOOKUP($D21,'Tarifa compacta'!$A$11:$O$997,12,0)=0,"",VLOOKUP($D21,'Tarifa compacta'!$A$11:$O$997,12,0)),"") | I21: 4,20/5,30 | J21: 7,10 A++ | K21: 4,30 A+ medio
C22: =IFERROR(VLOOKUP(D22,'Tarifa compacta'!A:C,2,FALSE),"-") -> 5025232987818 | D22: CS-XZ42CKEW-H | E22: =+VLOOKUP($D22,'Tarifa compacta'!$A:$G,7,0) -> Unidad interior 4,2kW gris grafito nanoe™X Mark 3, Wi-Fi integrado, Aerowings 2.0, Función AI-ECO | F22: =+IFERROR(VLOOKUP($D22,'Tarifa compacta'!$A$11:$O$997,13,0),"") -> 913 | G22: =IFERROR(IF(VLOOKUP($D22,'Tarifa compacta'!$A$11:$O$997,15,0)=0,"",VLOOKUP($D22,'Tarifa compacta'!$A$11:$O$997,15,0)),"") -> 0.02 | H22: =IFERROR(IF(VLOOKUP($D22,'Tarifa compacta'!$A$11:$O$997,12,0)=0,"",VLOOKUP($D22,'Tarifa compacta'!$A$11:$O$997,12,0)),"")
C23: =IFERROR(VLOOKUP(D23,'Tarifa compacta'!A:C,2,FALSE),"-") -> 5025232988334 | D23: CU-Z42CKE | E23: =+VLOOKUP($D23,'Tarifa compacta'!$A:$G,7,0) -> Unidad exterior Etherea 4,2kW | F23: =+IFERROR(VLOOKUP($D23,'Tarifa compacta'!$A$11:$O$997,13,0),"") -> 1229 | G23: =IFERROR(IF(VLOOKUP($D23,'Tarifa compacta'!$A$11:$O$997,15,0)=0,"",VLOOKUP($D23,'Tarifa compacta'!$A$11:$O$997,15,0)),"") | H23: =IFERROR(IF(VLOOKUP($D23,'Tarifa compacta'!$A$11:$O$997,12,0)=0,"",VLOOKUP($D23,'Tarifa compacta'!$A$11:$O$997,12,0)),"")
D24: Split Inverter Premium Etherea blanco mate con nanoe™ X (Mark 3)
C25: =IFERROR(VLOOKUP(D25,'Tarifa compacta'!A:C,2,FALSE),"-") -> - | D25: KIT-Z20-CKE | F25: =+SUM(F26:F27) -> 1367 | G25: =+IF(SUM(G26:G27)=0,"",SUM(G26:G27)) -> 0.02 | H25: =IFERROR(IF(VLOOKUP($D25,'Tarifa compacta'!$A$11:$O$997,12,0)=0,"",VLOOKUP($D25,'Tarifa compacta'!$A$11:$O$997,12,0)),"") | I25: 2,05/2,80 | J25: 8,70 A+++ | K25: 4,80 A++ medio
C26: =IFERROR(VLOOKUP(D26,'Tarifa compacta'!A:C,2,FALSE),"-") -> 5025232987832 | D26: CS-Z20CKEW | E26: =+VLOOKUP($D26,'Tarifa compacta'!$A:$G,7,0) -> Unidad interior 2,0kW Blanco Mate con nanoe™X Mark 3, Wi-Fi integrado, Aerowings 2.0, Función AI-ECO | F26: =+IFERROR(VLOOKUP($D26,'Tarifa compacta'!$A$11:$O$997,13,0),"") -> 547 | G26: =IFERROR(IF(VLOOKUP($D26,'Tarifa compacta'!$A$11:$O$997,15,0)=0,"",VLOOKUP($D26,'Tarifa compacta'!$A$11:$O$997,15,0)),"") -> 0.02 | H26: =IFERROR(IF(VLOOKUP($D26,'Tarifa compacta'!$A$11:$O$997,12,0)=0,"",VLOOKUP($D26,'Tarifa compacta'!$A$11:$O$997,12,0)),"")
C27: =IFERROR(VLOOKUP(D27,'Tarifa compacta'!A:C,2,FALSE),"-") -> 5025232988266 | D27: CU-Z20CKE | E27: =+VLOOKUP($D27,'Tarifa compacta'!$A:$G,7,0) -> Unidad exterior Etherea 2,0kW | F27: =+IFERROR(VLOOKUP($D27,'Tarifa compacta'!$A$11:$O$997,13,0),"") -> 820 | G27: =IFERROR(IF(VLOOKUP($D27,'Tarifa compacta'!$A$11:$O$997,15,0)=0,"",VLOOKUP($D27,'Tarifa compacta'!$A$11:$O$997,15,0)),"") | H27: =IFERROR(IF(VLOOKUP($D27,'Tarifa compacta'!$A$11:$O$997,12,0)=0,"",VLOOKUP($D27,'Tarifa compacta'!$A$11:$O$997,12,0)),"")
C28: =IFERROR(VLOOKUP(D28,'Tarifa compacta'!A:C,2,FALSE),"-") -> - | D28: KIT-Z25-CKE | F28: =+SUM(F29:F30) -> 1462 | G28: =+IF(SUM(G29:G30)=0,"",SUM(G29:G30)) -> 0.02 | H28: =IFERROR(IF(VLOOKUP($D28,'Tarifa compacta'!$A$11:$O$997,12,0)=0,"",VLOOKUP($D28,'Tarifa compacta'!$A$11:$O$997,12,0)),"") | I28: 2,50/3,40 | J28: 9,50 A+++ | K28: 5,20 A+++ medio
C29: =IFERROR(VLOOKUP(D29,'Tarifa compacta'!A:C,2,FALSE),"-") -> 5025232987870 | D29: CS-Z25CKEW | E29: =+VLOOKUP($D29,'Tarifa compacta'!$A:$G,7,0) -> Unidad interior 2,5kW Blanco Mate con nanoe™X Mark 3, Wi-Fi integrado, Aerowings 2.0, Función AI-ECO | F29: =+IFERROR(VLOOKUP($D29,'Tarifa compacta'!$A$11:$O$997,13,0),"") -> 591 | G29: =IFERROR(IF(VLOOKUP($D29,'Tarifa compacta'!$A$11:$O$997,15,0)=0,"",VLOOKUP($D29,'Tarifa compacta'!$A$11:$O$997,15,0)),"") -> 0.02 | H29: =IFERROR(IF(VLOOKUP($D29,'Tarifa compacta'!$A$11:$O$997,12,0)=0,"",VLOOKUP($D29,'Tarifa compacta'!$A$11:$O$997,12,0)),"")
C30: =IFERROR(VLOOKUP(D30,'Tarifa compacta'!A:C,2,FALSE),"-") -> 5025232988297 | D30: CU-Z25CKE | E30: =+VLOOKUP($D30,'Tarifa compacta'!$A:$G,7,0) -> Unidad exterior Etherea 2,5kW | F30: =+IFERROR(VLOOKUP($D30,'Tarifa compacta'!$A$11:$O$997,13,0),"") -> 871 | G30: =IFERROR(IF(VLOOKUP($D30,'Tarifa compacta'!$A$11:$O$997,15,0)=0,"",VLOOKUP($D30,'Tarifa compacta'!$A$11:$O$997,15,0)),"") | H30: =IFERROR(IF(VLOOKUP($D30,'Tarifa compacta'!$A$11:$O$997,12,0)=0,"",VLOOKUP($D30,'Tarifa compacta'!$A$11:$O$997,12,0)),"")
C31: =IFERROR(VLOOKUP(D31,'Tarifa compacta'!A:C,2,FALSE),"-") -> - | D31: KIT-Z35-CKE | F31: =+SUM(F32:F33) -> 1608 | G31: =+IF(SUM(G32:G33)=0,"",SUM(G32:G33)) -> 0.02 | H31: =IFERROR(IF(VLOOKUP($D31,'Tarifa compacta'!$A$11:$O$997,12,0)=0,"",VLOOKUP($D31,'Tarifa compacta'!$A$11:$O$997,12,0)),"") | I31: 3,50/4,00 | J31: 9,50 A+++ | K31: 5,20 A+++ medio
C32: =IFERROR(VLOOKUP(D32,'Tarifa compacta'!A:C,2,FALSE),"-") -> 5025232987917 | D32: CS-Z35CKEW | E32: =+VLOOKUP($D32,'Tarifa compacta'!$A:$G,7,0) -> Unidad interior 3,5kW Blanco Mate con nanoe™X Mark 3, Wi-Fi integrado, Aerowings 2.0, Función AI-ECO | F32: =+IFERROR(VLOOKUP($D32,'Tarifa compacta'!$A$11:$O$997,13,0),"") -> 691 | G32: =IFERROR(IF(VLOOKUP($D32,'Tarifa compacta'!$A$11:$O$997,15,0)=0,"",VLOOKUP($D32,'Tarifa compacta'!$A$11:$O$997,15,0)),"") -> 0.02 | H32: =IFERROR(IF(VLOOKUP($D32,'Tarifa compacta'!$A$11:$O$997,12,0)=0,"",VLOOKUP($D32,'Tarifa compacta'!$A$11:$O$997,12,0)),"")
C33: =IFERROR(VLOOKUP(D33,'Tarifa compacta'!A:C,2,FALSE),"-") -> 5025232988327 | D33: CU-Z35CKE | E33: =+VLOOKUP($D33,'Tarifa compacta'!$A:$G,7,0) -> Unidad exterior Etherea 3,5kW | F33: =+IFERROR(VLOOKUP($D33,'Tarifa compacta'!$A$11:$O$997,13,0),"") -> 917 | G33: =IFERROR(IF(VLOOKUP($D33,'Tarifa compacta'!$A$11:$O$997,15,0)=0,"",VLOOKUP($D33,'Tarifa compacta'!$A$11:$O$997,15,0)),"") | H33: =IFERROR(IF(VLOOKUP($D33,'Tarifa compacta'!$A$11:$O$997,12,0)=0,"",VLOOKUP($D33,'Tarifa compacta'!$A$11:$O$997,12,0)),"")
C34: =IFERROR(VLOOKUP(D34,'Tarifa compacta'!A:C,2,FALSE),"-") -> - | D34: KIT-Z42-CKE | F34: =+SUM(F35:F36) -> 2111 | G34: =+IF(SUM(G35:G36)=0,"",SUM(G35:G36)) -> 0.02 | H34: =IFERROR(IF(VLOOKUP($D34,'Tarifa compacta'!$A$11:$O$997,12,0)=0,"",VLOOKUP($D34,'Tarifa compacta'!$A$11:$O$997,12,0)),"") | I34: 4,20/5,30 | J34: 7,10 A++ | K34: 4,30 A+ medio
C35: =IFERROR(VLOOKUP(D35,'Tarifa compacta'!A:C,2,FALSE),"-") -> 5025232987924 | D35: CS-Z42CKEW | E35: =+VLOOKUP($D35,'Tarifa compacta'!$A:$G,7,0) -> Unidad interior 4,2kW Blanco Mate con nanoe™X Mark 3, Wi-Fi integrado, Aerowings 2.0, Función AI-ECO | F35: =+IFERROR(VLOOKUP($D35,'Tarifa compacta'!$A$11:$O$997,13,0),"") -> 882 | G35: =IFERROR(IF(VLOOKUP($D35,'Tarifa compacta'!$A$11:$O$997,15,0)=0,"",VLOOKUP($D35,'Tarifa compacta'!$A$11:$O$997,15,0)),"") -> 0.02 | H35: =IFERROR(IF(VLOOKUP($D35,'Tarifa compacta'!$A$11:$O$997,12,0)=0,"",VLOOKUP($D35,'Tarifa compacta'!$A$11:$O$997,12,0)),"")
C36: =IFERROR(VLOOKUP(D36,'Tarifa compacta'!A:C,2,FALSE),"-") -> 5025232988334 | D36: CU-Z42CKE | E36: =+VLOOKUP($D36,'Tarifa compacta'!$A:$G,7,0) -> Unidad exterior Etherea 4,2kW | F36: =+IFERROR(VLOOKUP($D36,'Tarifa compacta'!$A$11:$O$997,13,0),"") -> 1229 | G36: =IFERROR(IF(VLOOKUP($D36,'Tarifa compacta'!$A$11:$O$997,15,0)=0,"",VLOOKUP($D36,'Tarifa compacta'!$A$11:$O$997,15,0)),"") | H36: =IFERROR(IF(VLOOKUP($D36,'Tarifa compacta'!$A$11:$O$997,12,0)=0,"",VLOOKUP($D36,'Tarifa compacta'!$A$11:$O$997,12,0)),"")
C37: =IFERROR(VLOOKUP(D37,'Tarifa compacta'!A:C,2,FALSE),"-") -> - | D37: KIT-Z50-CKE | F37: =+SUM(F38:F39) -> 2782 | G37: =+IF(SUM(G38:G39)=0,"",SUM(G38:G39)) -> 0.02 | H37: =IFERROR(IF(VLOOKUP($D37,'Tarifa compacta'!$A$11:$O$997,12,0)=0,"",VLOOKUP($D37,'Tarifa compacta'!$A$11:$O$997,12,0)),"") | I37: 5,00/5,80 | J37: 8,50 A++ | K37: 4,80 A++ medio
C38: =IFERROR(VLOOKUP(D38,'Tarifa compacta'!A:C,2,FALSE),"-") -> 5025232987955 | D38: CS-Z50CKEW | E38: =+VLOOKUP($D38,'Tarifa compacta'!$A:$G,7,0) -> Unidad interior 5,0kW Blanco Mate con nanoe™X Mark 3, Wi-Fi integrado, Aerowings 2.0, Función AI-ECO | F38: =+IFERROR(VLOOKUP($D38,'Tarifa compacta'!$A$11:$O$997,13,0),"") -> 1101 | G38: =IFERROR(IF(VLOOKUP($D38,'Tarifa compacta'!$A$11:$O$997,15,0)=0,"",VLOOKUP($D38,'Tarifa compacta'!$A$11:$O$997,15,0)),"") -> 0.02 | H38: =IFERROR(IF(VLOOKUP($D38,'Tarifa compacta'!$A$11:$O$997,12,0)=0,"",VLOOKUP($D38,'Tarifa compacta'!$A$11:$O$997,12,0)),"")
C39: =IFERROR(VLOOKUP(D39,'Tarifa compacta'!A:C,2,FALSE),"-") -> 5025232988358 | D39: CU-Z50CKE | E39: =+VLOOKUP($D39,'Tarifa compacta'!$A:$G,7,0) -> Unidad exterior Etherea 5,0kW | F39: =+IFERROR(VLOOKUP($D39,'Tarifa compacta'!$A$11:$O$997,13,0),"") -> 1681 | G39: =IFERROR(IF(VLOOKUP($D39,'Tarifa compacta'!$A$11:$O$997,15,0)=0,"",VLOOKUP($D39,'Tarifa compacta'!$A$11:$O$997,15,0)),"") | H39: =IFERROR(IF(VLOOKUP($D39,'Tarifa compacta'!$A$11:$O$997,12,0)=0,"",VLOOKUP($D39,'Tarifa compacta'!$A$11:$O$997,12,0)),"")
C40: =IFERROR(VLOOKUP(D40,'Tarifa compacta'!A:C,2,FALSE),"-") -> - | D40: KIT-Z71-CKE | F40: =+SUM(F41:F42) -> 4287 | G40: =+IF(SUM(G41:G42)=0,"",SUM(G41:G42)) -> 0.02 | H40: =IFERROR(IF(VLOOKUP($D40,'Tarifa compacta'!$A$11:$O$997,12,0)=0,"",VLOOKUP($D40,'Tarifa compacta'!$A$11:$O$997,12,0)),"") | I40: 7,10/8,20 | J40: 6,50 A++ | K40: 4,20 A++ medio
C41: =IFERROR(VLOOKUP(D41,'Tarifa compacta'!A:C,2,FALSE),"-") -> 5025232987979 | D41: CS-Z71CKEW | E41: =+VLOOKUP($D41,'Tarifa compacta'!$A:$G,7,0) -> Unidad interior 7,1kW Blanco Mate con nanoe™X Mark 3, Wi-Fi integrado, Aerowings 2.0, Función AI-ECO | F41: =+IFERROR(VLOOKUP($D41,'Tarifa compacta'!$A$11:$O$997,13,0),"") -> 1689 | G41: =IFERROR(IF(VLOOKUP($D41,'Tarifa compacta'!$A$11:$O$997,15,0)=0,"",VLOOKUP($D41,'Tarifa compacta'!$A$11:$O$997,15,0)),"") -> 0.02 | H41: =IFERROR(IF(VLOOKUP($D41,'Tarifa compacta'!$A$11:$O$997,12,0)=0,"",VLOOKUP($D41,'Tarifa compacta'!$A$11:$O$997,12,0)),"")
C42: =IFERROR(VLOOKUP(D42,'Tarifa compacta'!A:C,2,FALSE),"-") -> 5025232988372 | D42: CU-Z71CKE | E42: =+VLOOKUP($D42,'Tarifa compacta'!$A:$G,7,0) -> Unidad exterior Etherea 7,1kW | F42: =+IFERROR(VLOOKUP($D42,'Tarifa compacta'!$A$11:$O$997,13,0),"") -> 2598 | G42: =IFERROR(IF(VLOOKUP($D42,'Tarifa compacta'!$A$11:$O$997,15,0)=0,"",VLOOKUP($D42,'Tarifa compacta'!$A$11:$O$997,15,0)),"") | H42: =IFERROR(IF(VLOOKUP($D42,'Tarifa compacta'!$A$11:$O$997,12,0)=0,"",VLOOKUP($D42,'Tarifa compacta'!$A$11:$O$997,12,0)),"")
D43: Split Inverter TZ blanco mate con nanoe™ X (Mark 2) - Nuevo chasis ultracompacto (765mm hasta 5kW)
...

Sheet PAC
B1: Gama comercial aire-aire - Lista de precios 2026
B3: País | D3: España
B4: Divisa | D4: EUR
B5: Validez | D5: 46296
B7: ='Tarifa compacta'!A8 -> * PVPR significa Precio de Venta al Público Recomendado. Los precios no incluyen IVA. Todos los precios están sujetos a cambios o retirada sin previo aviso.
C9: EAN | D9: Material | E9: Descripción | F9: PVPR* | G9: Disponibilidad | H9: Comentarios
B10: Bomba de calor aire-aire comercial tipo split 1x1
D11: PK4 Split de pared Elite con nanoe™X Mark 3 · R32
C12: =IFERROR(VLOOKUP(D12,'Tarifa compacta'!A:C,2,FALSE),"-") -> - | D12: KIT-36PK4ZH5 | F12: =+SUM(F13:F15) -> 3251 | G12: =IFERROR(IF(VLOOKUP($D12,'Tarifa compacta'!$A$11:$O$1174,12,0)=0,"",VLOOKUP($D12,'Tarifa compacta'!$A$11:$O$1174,12,0)),"")
C13: =IFERROR(VLOOKUP(D13,'Tarifa compacta'!A:C,2,FALSE),"-") -> 5025232978472 | D13: S-2545PK4E | E13: =+VLOOKUP($D13,'Tarifa compacta'!$A:$G,7,0) -> Unidad de pared desde 2,50kW hasta 3,60kW con nanoe™X | F13: =+IFERROR(VLOOKUP($D13,'Tarifa compacta'!$A$11:$O$1174,13,0),"") -> 998 | G13: =IFERROR(IF(VLOOKUP($D13,'Tarifa compacta'!$A$11:$O$1174,12,0)=0,"",VLOOKUP($D13,'Tarifa compacta'!$A$11:$O$1174,12,0)),"")
C14: =IFERROR(VLOOKUP(D14,'Tarifa compacta'!A:C,2,FALSE),"-") -> 5025232915507 | D14: U-36PZH3E5 | E14: =+VLOOKUP($D14,'Tarifa compacta'!$A:$G,7,0) -> 3,6 kW Monofásica | F14: =+IFERROR(VLOOKUP($D14,'Tarifa compacta'!$A$11:$O$1174,13,0),"") -> 2061 | G14: =IFERROR(IF(VLOOKUP($D14,'Tarifa compacta'!$A$11:$O$1174,12,0)=0,"",VLOOKUP($D14,'Tarifa compacta'!$A$11:$O$1174,12,0)),"")
C15: =IFERROR(VLOOKUP(D15,'Tarifa compacta'!A:C,2,FALSE),"-") -> 5025232880621 | D15: CZ-RTC5B | E15: =+VLOOKUP($D15,'Tarifa compacta'!$A:$G,7,0) -> Mando de control por cable | F15: =+IFERROR(VLOOKUP($D15,'Tarifa compacta'!$A$11:$O$1174,13,0),"") -> 192 | G15: =IFERROR(IF(VLOOKUP($D15,'Tarifa compacta'!$A$11:$O$1174,12,0)=0,"",VLOOKUP($D15,'Tarifa compacta'!$A$11:$O$1174,12,0)),"")
